BEGIN:VCALENDAR
VERSION:2.0
PRODID:-//Musikverein Bermaringen e.V. - ECPv6.15.20//NONSGML v1.0//EN
CALSCALE:GREGORIAN
METHOD:PUBLISH
X-WR-CALNAME:Musikverein Bermaringen e.V.
X-ORIGINAL-URL:https://mv-bermaringen.de
X-WR-CALDESC:Veranstaltungen für Musikverein Bermaringen e.V.
REFRESH-INTERVAL;VALUE=DURATION:PT1H
X-Robots-Tag:noindex
X-PUBLISHED-TTL:PT1H
BEGIN:VTIMEZONE
TZID:UTC
BEGIN:STANDARD
TZOFFSETFROM:+0000
TZOFFSETTO:+0000
TZNAME:UTC
DTSTART:20250101T000000
END:STANDARD
END:VTIMEZONE
BEGIN:VEVENT
DTSTART;TZID=UTC:20260426T090000
DTEND;TZID=UTC:20260426T130000
DTSTAMP:20260425T020937
CREATED:20260303T073258Z
LAST-MODIFIED:20260303T073258Z
UID:1158-1777194000-1777208400@mv-bermaringen.de
SUMMARY:Matinee der Jugend
DESCRIPTION:
URL:https://mv-bermaringen.de/termin/matinee-der-jugend-2
CATEGORIES:Jugendmusik,Veranstaltung für Kids
END:VEVENT
BEGIN:VEVENT
DTSTART;TZID=UTC:20260510T100000
DTEND;TZID=UTC:20260510T120000
DTSTAMP:20260425T020937
CREATED:20260303T073331Z
LAST-MODIFIED:20260303T073331Z
UID:1160-1778407200-1778414400@mv-bermaringen.de
SUMMARY:Konfirmation Martinskirche Bermaringen
DESCRIPTION:
URL:https://mv-bermaringen.de/termin/konfirmation-martinskirche-bermaringen
CATEGORIES:Auftritte Aktive
END:VEVENT
BEGIN:VEVENT
DTSTART;TZID=UTC:20260517T080000
DTEND;TZID=UTC:20260517T170000
DTSTAMP:20260425T020937
CREATED:20260303T073407Z
LAST-MODIFIED:20260303T073407Z
UID:1162-1779004800-1779037200@mv-bermaringen.de
SUMMARY:Kreismusfest in Schmiechen
DESCRIPTION:Teilnahme am Umzug
URL:https://mv-bermaringen.de/termin/kreismusfest-in-schmiechen
CATEGORIES:Auftritte Aktive
END:VEVENT
BEGIN:VEVENT
DTSTART;TZID=UTC:20260614T080000
DTEND;TZID=UTC:20260614T170000
DTSTAMP:20260425T020937
CREATED:20260303T073438Z
LAST-MODIFIED:20260303T073438Z
UID:1164-1781424000-1781456400@mv-bermaringen.de
SUMMARY:Laichmarkt
DESCRIPTION:Essenstand
URL:https://mv-bermaringen.de/termin/laichmarkt
CATEGORIES:Allgemein
END:VEVENT
BEGIN:VEVENT
DTSTART;TZID=UTC:20260621T110000
DTEND;TZID=UTC:20260621T123000
DTSTAMP:20260425T020937
CREATED:20260303T073523Z
LAST-MODIFIED:20260303T073523Z
UID:1166-1782039600-1782045000@mv-bermaringen.de
SUMMARY:Musik im Park
DESCRIPTION:
URL:https://mv-bermaringen.de/termin/musik-im-park
CATEGORIES:Auftritte Aktive
END:VEVENT
BEGIN:VEVENT
DTSTART;TZID=UTC:20260704T180000
DTEND;TZID=UTC:20260705T220000
DTSTAMP:20260425T020937
CREATED:20260303T073613Z
LAST-MODIFIED:20260303T073613Z
UID:1168-1783188000-1783288800@mv-bermaringen.de
SUMMARY:Heckafeschd
DESCRIPTION:
URL:https://mv-bermaringen.de/termin/heckafeschd-5
CATEGORIES:Allgemein,Auftritte Aktive,Auftritte Jugend,Veranstaltung für Kids
END:VEVENT
BEGIN:VEVENT
DTSTART;TZID=UTC:20260712T140000
DTEND;TZID=UTC:20260712T170000
DTSTAMP:20260425T020937
CREATED:20260303T073651Z
LAST-MODIFIED:20260303T073651Z
UID:1170-1783864800-1783875600@mv-bermaringen.de
SUMMARY:Gartenfest Temmenhausen
DESCRIPTION:
URL:https://mv-bermaringen.de/termin/gartenfest-temmenhausen-2
CATEGORIES:Auftritte Aktive
END:VEVENT
BEGIN:VEVENT
DTSTART;TZID=UTC:20261004T100000
DTEND;TZID=UTC:20261004T110000
DTSTAMP:20260425T020937
CREATED:20260303T073725Z
LAST-MODIFIED:20260303T073725Z
UID:1172-1791108000-1791111600@mv-bermaringen.de
SUMMARY:Erntedank Gottesdienst
DESCRIPTION:
URL:https://mv-bermaringen.de/termin/erntedank-gottesdienst
CATEGORIES:Auftritte Aktive
END:VEVENT
BEGIN:VEVENT
DTSTART;TZID=UTC:20261206T180000
DTEND;TZID=UTC:20261206T190000
DTSTAMP:20260425T020937
CREATED:20260303T073816Z
LAST-MODIFIED:20260303T073816Z
UID:1174-1796580000-1796583600@mv-bermaringen.de
SUMMARY:Advent im Stall
DESCRIPTION:
URL:https://mv-bermaringen.de/termin/advent-im-stall
CATEGORIES:Auftritte Aktive
END:VEVENT
BEGIN:VEVENT
DTSTART;TZID=UTC:20261212T190000
DTEND;TZID=UTC:20261212T230000
DTSTAMP:20260425T020937
CREATED:20260303T073858Z
LAST-MODIFIED:20260303T073858Z
UID:1176-1797102000-1797116400@mv-bermaringen.de
SUMMARY:Weihnachtskonzert
DESCRIPTION:
URL:https://mv-bermaringen.de/termin/weihnachtskonzert-5
CATEGORIES:Auftritte Aktive,Auftritte Jugend
END:VEVENT
BEGIN:VEVENT
DTSTART;VALUE=DATE:20270514
DTEND;VALUE=DATE:20270518
DTSTAMP:20260425T020937
CREATED:20260303T073949Z
LAST-MODIFIED:20260303T073949Z
UID:1178-1810252800-1810598399@mv-bermaringen.de
SUMMARY:Kreismusikfest Grötzingen
DESCRIPTION:
URL:https://mv-bermaringen.de/termin/kreismusikfest-groetzingen
CATEGORIES:Auftritte Aktive
END:VEVENT
BEGIN:VEVENT
DTSTART;VALUE=DATE:20280512
DTEND;VALUE=DATE:20280516
DTSTAMP:20260425T020937
CREATED:20260303T074043Z
LAST-MODIFIED:20260303T074043Z
UID:1180-1841702400-1842047999@mv-bermaringen.de
SUMMARY:Kreismusikfest Dächingen
DESCRIPTION:
URL:https://mv-bermaringen.de/termin/kreismusikfest-daechingen
CATEGORIES:Auftritte Aktive
END:VEVENT
END:VCALENDAR